BEGIN:VCALENDAR
VERSION:2.0
PRODID:-//The Master Athlete - ECPv6.15.20//NONSGML v1.0//EN
CALSCALE:GREGORIAN
METHOD:PUBLISH
X-ORIGINAL-URL:https://themasterathlete.com
X-WR-CALDESC:Events for The Master Athlete
REFRESH-INTERVAL;VALUE=DURATION:PT1H
X-Robots-Tag:noindex
X-PUBLISHED-TTL:PT1H
BEGIN:VTIMEZONE
TZID:Europe/London
BEGIN:DAYLIGHT
TZOFFSETFROM:+0000
TZOFFSETTO:+0100
TZNAME:BST
DTSTART:20250330T010000
END:DAYLIGHT
BEGIN:STANDARD
TZOFFSETFROM:+0100
TZOFFSETTO:+0000
TZNAME:GMT
DTSTART:20251026T010000
END:STANDARD
BEGIN:DAYLIGHT
TZOFFSETFROM:+0000
TZOFFSETTO:+0100
TZNAME:BST
DTSTART:20260329T010000
END:DAYLIGHT
BEGIN:STANDARD
TZOFFSETFROM:+0100
TZOFFSETTO:+0000
TZNAME:GMT
DTSTART:20261025T010000
END:STANDARD
BEGIN:DAYLIGHT
TZOFFSETFROM:+0000
TZOFFSETTO:+0100
TZNAME:BST
DTSTART:20270328T010000
END:DAYLIGHT
BEGIN:STANDARD
TZOFFSETFROM:+0100
TZOFFSETTO:+0000
TZNAME:GMT
DTSTART:20271031T010000
END:STANDARD
END:VTIMEZONE
BEGIN:VEVENT
DTSTART;VALUE=DATE:20260314
DTEND;VALUE=DATE:20260315
DTSTAMP:20260421T113742
CREATED:20251209T090631Z
LAST-MODIFIED:20251209T090631Z
UID:5491-1773446400-1773532799@themasterathlete.com
SUMMARY:Indoor Inter Area Track & Field Challenge
DESCRIPTION:The annual England Masters indoor track & field challenge is at Lee Valley on Saturday 14 March 2026. \nTeams are selected by our team managers\, details will be out in due course.
URL:https://themasterathlete.com/event/indoor-inter-area-track-field-challenge/
LOCATION:Lee Valley Athletics Centre\, London\, United Kingdom
CATEGORIES:Masters Track & Field
ATTACH;FMTTYPE=image/jpeg:https://themasterathlete.com/wp-content/uploads/2025/11/Lee_Valley-indoor.jpg
END:VEVENT
END:VCALENDAR