BEGIN:VCALENDAR
VERSION:2.0
PRODID:-//The Master Athlete - ECPv6.15.20//NONSGML v1.0//EN
CALSCALE:GREGORIAN
METHOD:PUBLISH
X-WR-CALNAME:The Master Athlete
X-ORIGINAL-URL:https://themasterathlete.com
X-WR-CALDESC:Events for The Master Athlete
REFRESH-INTERVAL;VALUE=DURATION:PT1H
X-Robots-Tag:noindex
X-PUBLISHED-TTL:PT1H
BEGIN:VTIMEZONE
TZID:Europe/London
BEGIN:DAYLIGHT
TZOFFSETFROM:+0000
TZOFFSETTO:+0100
TZNAME:BST
DTSTART:20250330T010000
END:DAYLIGHT
BEGIN:STANDARD
TZOFFSETFROM:+0100
TZOFFSETTO:+0000
TZNAME:GMT
DTSTART:20251026T010000
END:STANDARD
BEGIN:DAYLIGHT
TZOFFSETFROM:+0000
TZOFFSETTO:+0100
TZNAME:BST
DTSTART:20260329T010000
END:DAYLIGHT
BEGIN:STANDARD
TZOFFSETFROM:+0100
TZOFFSETTO:+0000
TZNAME:GMT
DTSTART:20261025T010000
END:STANDARD
BEGIN:DAYLIGHT
TZOFFSETFROM:+0000
TZOFFSETTO:+0100
TZNAME:BST
DTSTART:20270328T010000
END:DAYLIGHT
BEGIN:STANDARD
TZOFFSETFROM:+0100
TZOFFSETTO:+0000
TZNAME:GMT
DTSTART:20271031T010000
END:STANDARD
END:VTIMEZONE
BEGIN:VEVENT
DTSTART;VALUE=DATE:20260327
DTEND;VALUE=DATE:20260407
DTSTAMP:20260421T113247
CREATED:20251006T151131Z
LAST-MODIFIED:20251209T085611Z
UID:5120-1774569600-1775519999@themasterathlete.com
SUMMARY:European Masters Athletics Championship Indoor
DESCRIPTION:Do you have any concerns or questions on how to register ? Click the link below \nLook at our instruction manual or Send us a ticket \n  \nDear Athletes\, \nLet’s compete again in the best place! \n  \nWelcome to Torun for the 15th European Masters Athletics Championships Indoor 2026. \nRegistrations are open from November 1 2025 until February 8 2026\, at 23:59GMT (no late entries accepted). \nIf you want have a look at the merchandise items: https://emaci2026.com/merchandise/ \n  \n  \nLOC General Director Slawek Krankowski\n \nEMA President Walentina Fedjuschina
URL:https://themasterathlete.com/event/european-masters-athletics-championship-indoor/
LOCATION:Torun
CATEGORIES:Masters Track & Field
ATTACH;FMTTYPE=image/png:https://themasterathlete.com/wp-content/uploads/2025/10/Torun-2026.png
END:VEVENT
END:VCALENDAR